Package: MSstatsLOBD Version: 1.14.0 Command: rm -rf MSstatsLOBD.buildbin-libdir && mkdir MSstatsLOBD.buildbin-libdir && F:\biocbuild\bbs-3.20-bioc\R\bin\R.exe CMD INSTALL --build --library=MSstatsLOBD.buildbin-libdir MSstatsLOBD_1.14.0.tar.gz StartedAt: 2025-02-11 08:58:03 -0500 (Tue, 11 Feb 2025) EndedAt: 2025-02-11 08:58:20 -0500 (Tue, 11 Feb 2025) EllapsedTime: 17.7 seconds RetCode: 0 Status: OK PackageFile: MSstatsLOBD_1.14.0.zip PackageFileSize: 184.8 KiB