Package: MSstatsLOBD Version: 1.14.0 Command: chmod a+r MSstatsLOBD -R && F:\biocbuild\bbs-3.20-bioc\R\bin\R.exe CMD build --keep-empty-dirs --no-resave-data MSstatsLOBD StartedAt: 2025-02-10 20:32:52 -0500 (Mon, 10 Feb 2025) EndedAt: 2025-02-10 20:33:35 -0500 (Mon, 10 Feb 2025) EllapsedTime: 42.7 seconds RetCode: 0 Status: OK PackageFile: MSstatsLOBD_1.14.0.tar.gz PackageFileSize: 137.6 KiB