Package: MSstatsLOBD Version: 1.14.0 Command: /home/biocbuild/R/R/bin/R CMD build --keep-empty-dirs --no-resave-data MSstatsLOBD StartedAt: 2025-02-04 01:15:47 -0000 (Tue, 04 Feb 2025) EndedAt: 2025-02-04 01:16:11 -0000 (Tue, 04 Feb 2025) EllapsedTime: 24.0 seconds RetCode: 0 Status: OK PackageFile: MSstatsLOBD_1.14.0.tar.gz PackageFileSize: 183.5 KiB