Package: MSstatsPTM Version: 2.8.1 Command: /Library/Frameworks/R.framework/Resources/bin/R CMD build --keep-empty-dirs --no-resave-data MSstatsPTM StartedAt: 2025-02-04 04:16:13 -0500 (Tue, 04 Feb 2025) EndedAt: 2025-02-04 04:17:38 -0500 (Tue, 04 Feb 2025) EllapsedTime: 85.0 seconds RetCode: 0 Status: OK PackageFile: MSstatsPTM_2.8.1.tar.gz PackageFileSize: 2.817 MiB