Package: MSstatsPTM Version: 2.8.1 Command: /Library/Frameworks/R.framework/Resources/bin/R CMD INSTALL MSstatsPTM StartedAt: 2025-02-03 17:33:33 -0500 (Mon, 03 Feb 2025) EndedAt: 2025-02-03 17:34:03 -0500 (Mon, 03 Feb 2025) EllapsedTime: 30.2 seconds RetCode: 0 Status: OK