Package: MSstatsPTM Version: 2.8.1 Command: /Library/Frameworks/R.framework/Resources/bin/R CMD build --keep-empty-dirs --no-resave-data MSstatsPTM StartedAt: 2025-02-03 20:42:37 -0500 (Mon, 03 Feb 2025) EndedAt: 2025-02-03 20:45:29 -0500 (Mon, 03 Feb 2025) EllapsedTime: 172.0 seconds RetCode: 0 Status: OK PackageFile: MSstatsPTM_2.8.1.tar.gz PackageFileSize: 2.815 MiB