Package: MSstatsPTM Version: 2.8.1 Command: /Library/Frameworks/R.framework/Resources/bin/R CMD check --install=check:MSstatsPTM.install-out.txt --library=/Library/Frameworks/R.framework/Resources/library --no-vignettes --timings MSstatsPTM_2.8.1.tar.gz StartedAt: 2025-02-04 06:57:07 -0500 (Tue, 04 Feb 2025) EndedAt: 2025-02-04 07:04:47 -0500 (Tue, 04 Feb 2025) EllapsedTime: 460.2 seconds RetCode: 0 Status: OK CheckDir: MSstatsPTM.Rcheck Warnings: 0