Package: MSstatsPTM Version: 2.8.1 Command: chmod a+r MSstatsPTM -R && F:\biocbuild\bbs-3.20-bioc\R\bin\R.exe CMD build --keep-empty-dirs --no-resave-data MSstatsPTM StartedAt: 2025-02-03 20:39:16 -0500 (Mon, 03 Feb 2025) EndedAt: 2025-02-03 20:42:27 -0500 (Mon, 03 Feb 2025) EllapsedTime: 190.9 seconds RetCode: 0 Status: OK PackageFile: MSstatsPTM_2.8.1.tar.gz PackageFileSize: 1.545 MiB