Package: MSstatsPTM Version: 2.8.1 Command: F:\biocbuild\bbs-3.20-bioc\R\bin\R.exe CMD check --no-multiarch --install=check:MSstatsPTM.install-out.txt --library=F:\biocbuild\bbs-3.20-bioc\R\library --no-vignettes --timings MSstatsPTM_2.8.1.tar.gz StartedAt: 2025-02-04 04:09:51 -0500 (Tue, 04 Feb 2025) EndedAt: 2025-02-04 04:14:31 -0500 (Tue, 04 Feb 2025) EllapsedTime: 279.6 seconds RetCode: 0 Status: OK CheckDir: MSstatsPTM.Rcheck Warnings: 0