Package: MSstatsPTM Version: 2.8.1 Command: F:\biocbuild\bbs-3.20-bioc\R\bin\R.exe CMD INSTALL MSstatsPTM StartedAt: 2025-02-03 16:14:12 -0500 (Mon, 03 Feb 2025) EndedAt: 2025-02-03 16:15:47 -0500 (Mon, 03 Feb 2025) EllapsedTime: 95.9 seconds RetCode: 0 Status: OK