Package: MSstatsShiny Version: 1.8.0 Command: /Library/Frameworks/R.framework/Resources/bin/R CMD build --keep-empty-dirs --no-resave-data MSstatsShiny StartedAt: 2025-02-04 04:16:47 -0500 (Tue, 04 Feb 2025) EndedAt: 2025-02-04 04:17:35 -0500 (Tue, 04 Feb 2025) EllapsedTime: 47.8 seconds RetCode: 0 Status: OK PackageFile: MSstatsShiny_1.8.0.tar.gz PackageFileSize: 2.16 MiB