Package: MSstatsShiny Version: 1.8.0 Command: /Library/Frameworks/R.framework/Resources/bin/R CMD INSTALL MSstatsShiny StartedAt: 2025-02-03 17:34:03 -0500 (Mon, 03 Feb 2025) EndedAt: 2025-02-03 17:34:33 -0500 (Mon, 03 Feb 2025) EllapsedTime: 29.7 seconds RetCode: 0 Status: OK