Package: MSstatsShiny Version: 1.8.0 Command: rm -rf MSstatsShiny.buildbin-libdir && mkdir MSstatsShiny.buildbin-libdir && /Users/biocbuild/BBS/utils/build-universal.sh MSstatsShiny_1.8.0.tar.gz /Library/Frameworks/R.framework/Resources/bin/R MSstatsShiny.buildbin-libdir StartedAt: 2025-02-04 13:34:00 -0500 (Tue, 04 Feb 2025) EndedAt: 2025-02-04 13:35:26 -0500 (Tue, 04 Feb 2025) EllapsedTime: 86.3 seconds RetCode: 0 Status: OK PackageFile: MSstatsShiny_1.8.0.tgz PackageFileSize: 2.293 MiB