Package: MSstatsShiny Version: 1.8.0 Command: /Library/Frameworks/R.framework/Resources/bin/R CMD build --keep-empty-dirs --no-resave-data MSstatsShiny StartedAt: 2025-02-03 20:42:55 -0500 (Mon, 03 Feb 2025) EndedAt: 2025-02-03 20:44:30 -0500 (Mon, 03 Feb 2025) EllapsedTime: 95.4 seconds RetCode: 0 Status: OK PackageFile: MSstatsShiny_1.8.0.tar.gz PackageFileSize: 2.16 MiB