Package: MSstatsShiny Version: 1.8.0 Command: rm -rf MSstatsShiny.buildbin-libdir && mkdir MSstatsShiny.buildbin-libdir && F:\biocbuild\bbs-3.20-bioc\R\bin\R.exe CMD INSTALL --build --library=MSstatsShiny.buildbin-libdir MSstatsShiny_1.8.0.tar.gz StartedAt: 2025-02-04 09:01:06 -0500 (Tue, 04 Feb 2025) EndedAt: 2025-02-04 09:01:57 -0500 (Tue, 04 Feb 2025) EllapsedTime: 51.0 seconds RetCode: 0 Status: OK PackageFile: MSstatsShiny_1.8.0.zip PackageFileSize: 2.295 MiB