Package: MSstatsTMT Version: 2.14.1 Command: /Library/Frameworks/R.framework/Resources/bin/R CMD INSTALL MSstatsTMT StartedAt: 2025-02-03 17:11:40 -0500 (Mon, 03 Feb 2025) EndedAt: 2025-02-03 17:11:55 -0500 (Mon, 03 Feb 2025) EllapsedTime: 14.7 seconds RetCode: 0 Status: OK