Package: MSstatsTMT Version: 2.14.1 Command: /home/biocbuild/R/R/bin/R CMD build --keep-empty-dirs --no-resave-data MSstatsTMT StartedAt: 2025-02-04 01:16:40 -0000 (Tue, 04 Feb 2025) EndedAt: 2025-02-04 01:17:56 -0000 (Tue, 04 Feb 2025) EllapsedTime: 76.1 seconds RetCode: 0 Status: OK PackageFile: MSstatsTMT_2.14.1.tar.gz PackageFileSize: 1.532 MiB