Package: MSstatsTMT Version: 2.14.1 Command: /home/biocbuild/R/R/bin/R CMD INSTALL MSstatsTMT StartedAt: 2025-02-03 21:06:44 -0000 (Mon, 03 Feb 2025) EndedAt: 2025-02-03 21:07:00 -0000 (Mon, 03 Feb 2025) EllapsedTime: 15.7 seconds RetCode: 0 Status: OK