Package: MVCClass Version: 1.80.0 Maintainer: Elizabeth Whalen MaintainerEmail: ewhalen at hsph.harvard.edu git_url: https://git.bioconductor.org/packages/MVCClass git_branch: RELEASE_3_20 git_last_commit: 879af97 git_last_commit_date: 2024-10-29 09:23:45 -0500 (Tue, 29 Oct 2024)