Package: MVCClass Version: 1.80.0 Command: chmod a+r MVCClass -R && F:\biocbuild\bbs-3.20-bioc\R\bin\R.exe CMD build --keep-empty-dirs --no-resave-data MVCClass StartedAt: 2025-02-03 20:43:56 -0500 (Mon, 03 Feb 2025) EndedAt: 2025-02-03 20:44:25 -0500 (Mon, 03 Feb 2025) EllapsedTime: 29.3 seconds RetCode: 0 Status: OK PackageFile: MVCClass_1.80.0.tar.gz PackageFileSize: 1.032 MiB