Package: MVCClass Version: 1.80.0 Command: /home/biocbuild/R/R/bin/R CMD build --keep-empty-dirs --no-resave-data MVCClass StartedAt: 2025-02-04 01:19:28 -0000 (Tue, 04 Feb 2025) EndedAt: 2025-02-04 01:19:35 -0000 (Tue, 04 Feb 2025) EllapsedTime: 7.0 seconds RetCode: 0 Status: OK PackageFile: MVCClass_1.80.0.tar.gz PackageFileSize: 1.028 MiB