Package: MWASTools Version: 1.30.0 Command: rm -rf MWASTools.buildbin-libdir && mkdir MWASTools.buildbin-libdir && /Users/biocbuild/BBS/utils/build-universal.sh MWASTools_1.30.0.tar.gz /Library/Frameworks/R.framework/Resources/bin/R MWASTools.buildbin-libdir StartedAt: 2025-02-05 16:54:00 -0500 (Wed, 05 Feb 2025) EndedAt: 2025-02-05 16:54:42 -0500 (Wed, 05 Feb 2025) EllapsedTime: 41.9 seconds RetCode: 0 Status: OK PackageFile: MWASTools_1.30.0.tgz PackageFileSize: 2.115 MiB