Package: MWASTools Version: 1.30.0 Command: /Library/Frameworks/R.framework/Resources/bin/R CMD build --keep-empty-dirs --no-resave-data MWASTools StartedAt: 2025-02-04 04:28:10 -0500 (Tue, 04 Feb 2025) EndedAt: 2025-02-04 04:29:29 -0500 (Tue, 04 Feb 2025) EllapsedTime: 79.2 seconds RetCode: 0 Status: OK PackageFile: MWASTools_1.30.0.tar.gz PackageFileSize: 2.106 MiB