Package: MWASTools Version: 1.30.0 Command: /Library/Frameworks/R.framework/Resources/bin/R CMD check --install=check:MWASTools.install-out.txt --library=/Library/Frameworks/R.framework/Resources/library --no-vignettes --timings MWASTools_1.30.0.tar.gz StartedAt: 2025-02-05 03:35:23 -0500 (Wed, 05 Feb 2025) EndedAt: 2025-02-05 03:39:44 -0500 (Wed, 05 Feb 2025) EllapsedTime: 261.7 seconds RetCode: 0 Status: OK CheckDir: MWASTools.Rcheck Warnings: 0