Package: MWASTools Version: 1.30.0 Command: /Library/Frameworks/R.framework/Resources/bin/R CMD INSTALL MWASTools StartedAt: 2025-02-03 17:16:37 -0500 (Mon, 03 Feb 2025) EndedAt: 2025-02-03 17:17:14 -0500 (Mon, 03 Feb 2025) EllapsedTime: 36.9 seconds RetCode: 0 Status: OK