Package: MWASTools Version: 1.30.0 Command: rm -rf MWASTools.buildbin-libdir && mkdir MWASTools.buildbin-libdir && /Users/biocbuild/BBS/utils/build-universal.sh MWASTools_1.30.0.tar.gz /Library/Frameworks/R.framework/Resources/bin/R MWASTools.buildbin-libdir StartedAt: 2025-02-11 13:57:08 -0500 (Tue, 11 Feb 2025) EndedAt: 2025-02-11 13:58:58 -0500 (Tue, 11 Feb 2025) EllapsedTime: 109.8 seconds RetCode: 0 Status: OK PackageFile: MWASTools_1.30.0.tgz PackageFileSize: 2.114 MiB