Package: MWASTools Version: 1.30.0 Command: /Library/Frameworks/R.framework/Resources/bin/R CMD INSTALL MWASTools StartedAt: 2025-02-03 16:21:56 -0500 (Mon, 03 Feb 2025) EndedAt: 2025-02-03 16:23:01 -0500 (Mon, 03 Feb 2025) EllapsedTime: 65.4 seconds RetCode: 0 Status: OK