Package: Maaslin2 Version: 1.20.0 Command: rm -rf Maaslin2.buildbin-libdir && mkdir Maaslin2.buildbin-libdir && /Users/biocbuild/BBS/utils/build-universal.sh Maaslin2_1.20.0.tar.gz /Library/Frameworks/R.framework/Resources/bin/R Maaslin2.buildbin-libdir StartedAt: 2025-02-01 15:31:54 -0500 (Sat, 01 Feb 2025) EndedAt: 2025-02-01 15:32:05 -0500 (Sat, 01 Feb 2025) EllapsedTime: 11.3 seconds RetCode: 0 Status: OK PackageFile: Maaslin2_1.20.0.tgz PackageFileSize: 613.4 KiB