Package: Maaslin2 Version: 1.20.0 Command: /Library/Frameworks/R.framework/Resources/bin/R CMD build --keep-empty-dirs --no-resave-data Maaslin2 StartedAt: 2025-01-31 02:21:32 -0500 (Fri, 31 Jan 2025) EndedAt: 2025-01-31 02:23:31 -0500 (Fri, 31 Jan 2025) EllapsedTime: 118.6 seconds RetCode: 0 Status: OK PackageFile: Maaslin2_1.20.0.tar.gz PackageFileSize: 544.5 KiB