Package: Maaslin2 Version: 1.20.0 Command: /Library/Frameworks/R.framework/Resources/bin/R CMD INSTALL Maaslin2 StartedAt: 2025-01-30 16:15:34 -0500 (Thu, 30 Jan 2025) EndedAt: 2025-01-30 16:15:54 -0500 (Thu, 30 Jan 2025) EllapsedTime: 19.9 seconds RetCode: 0 Status: OK