Package: Maaslin2 Version: 1.20.0 Command: /home/biocbuild/R/R/bin/R CMD build --keep-empty-dirs --no-resave-data Maaslin2 StartedAt: 2025-01-31 00:35:57 -0000 (Fri, 31 Jan 2025) EndedAt: 2025-01-31 00:38:20 -0000 (Fri, 31 Jan 2025) EllapsedTime: 143.1 seconds RetCode: 0 Status: OK PackageFile: Maaslin2_1.20.0.tar.gz PackageFileSize: 568.7 KiB