Package: MassArray Version: 1.58.0 Command: /Library/Frameworks/R.framework/Resources/bin/R CMD build --keep-empty-dirs --no-resave-data MassArray StartedAt: 2025-02-11 02:37:27 -0500 (Tue, 11 Feb 2025) EndedAt: 2025-02-11 02:38:00 -0500 (Tue, 11 Feb 2025) EllapsedTime: 33.1 seconds RetCode: 0 Status: OK PackageFile: MassArray_1.58.0.tar.gz PackageFileSize: 374.8 KiB