Package: MassArray Version: 1.58.0 Command: /Library/Frameworks/R.framework/Resources/bin/R CMD check --install=check:MassArray.install-out.txt --library=/Library/Frameworks/R.framework/Resources/library --no-vignettes --timings MassArray_1.58.0.tar.gz StartedAt: 2025-02-12 00:04:53 -0500 (Wed, 12 Feb 2025) EndedAt: 2025-02-12 00:05:39 -0500 (Wed, 12 Feb 2025) EllapsedTime: 45.9 seconds RetCode: 0 Status: OK CheckDir: MassArray.Rcheck Warnings: 0