Package: MassArray Version: 1.58.0 Command: rm -rf MassArray.buildbin-libdir && mkdir MassArray.buildbin-libdir && /Users/biocbuild/BBS/utils/build-universal.sh MassArray_1.58.0.tar.gz /Library/Frameworks/R.framework/Resources/bin/R MassArray.buildbin-libdir StartedAt: 2025-02-04 13:20:08 -0500 (Tue, 04 Feb 2025) EndedAt: 2025-02-04 13:20:30 -0500 (Tue, 04 Feb 2025) EllapsedTime: 22.3 seconds RetCode: 0 Status: OK PackageFile: MassArray_1.58.0.tgz PackageFileSize: 646.4 KiB