Package: MassArray Version: 1.58.0 Command: /Library/Frameworks/R.framework/Resources/bin/R CMD build --keep-empty-dirs --no-resave-data MassArray StartedAt: 2025-02-03 20:02:02 -0500 (Mon, 03 Feb 2025) EndedAt: 2025-02-03 20:03:16 -0500 (Mon, 03 Feb 2025) EllapsedTime: 74.1 seconds RetCode: 0 Status: OK PackageFile: MassArray_1.58.0.tar.gz PackageFileSize: 375 KiB