Package: MassArray Version: 1.58.0 Command: rm -rf MassArray.buildbin-libdir && mkdir MassArray.buildbin-libdir && F:\biocbuild\bbs-3.20-bioc\R\bin\R.exe CMD INSTALL --build --library=MassArray.buildbin-libdir MassArray_1.58.0.tar.gz StartedAt: 2025-02-04 08:50:52 -0500 (Tue, 04 Feb 2025) EndedAt: 2025-02-04 08:51:46 -0500 (Tue, 04 Feb 2025) EllapsedTime: 53.5 seconds RetCode: 0 Status: OK PackageFile: MassArray_1.58.0.zip PackageFileSize: 551.4 KiB