Package: MassArray Version: 1.58.0 Command: F:\biocbuild\bbs-3.20-bioc\R\bin\R.exe CMD check --no-multiarch --install=check:MassArray.install-out.txt --library=F:\biocbuild\bbs-3.20-bioc\R\library --no-vignettes --timings MassArray_1.58.0.tar.gz StartedAt: 2025-02-11 03:14:33 -0500 (Tue, 11 Feb 2025) EndedAt: 2025-02-11 03:15:33 -0500 (Tue, 11 Feb 2025) EllapsedTime: 59.8 seconds RetCode: 0 Status: OK CheckDir: MassArray.Rcheck Warnings: 0