Package: MatrixGenerics Version: 1.18.1 Maintainer: Peter Hickey MaintainerEmail: peter.hickey at gmail.com git_url: https://git.bioconductor.org/packages/MatrixGenerics git_branch: RELEASE_3_20 git_last_commit: 5fb4445 git_last_commit_date: 2025-01-08 21:19:20 -0500 (Wed, 08 Jan 2025)