Package: MatrixGenerics Version: 1.18.1 Command: rm -rf MatrixGenerics.buildbin-libdir && mkdir MatrixGenerics.buildbin-libdir && /Users/biocbuild/BBS/utils/build-universal.sh MatrixGenerics_1.18.1.tar.gz /Library/Frameworks/R.framework/Resources/bin/R MatrixGenerics.buildbin-libdir StartedAt: 2025-02-01 15:34:22 -0500 (Sat, 01 Feb 2025) EndedAt: 2025-02-01 15:34:29 -0500 (Sat, 01 Feb 2025) EllapsedTime: 6.8 seconds RetCode: 0 Status: OK PackageFile: MatrixGenerics_1.18.1.tgz PackageFileSize: 431.8 KiB