Package: MatrixGenerics Version: 1.18.1 Command: /Library/Frameworks/R.framework/Resources/bin/R CMD check --install=check:MatrixGenerics.install-out.txt --library=/Library/Frameworks/R.framework/Resources/library --no-vignettes --timings MatrixGenerics_1.18.1.tar.gz StartedAt: 2025-02-01 00:00:03 -0500 (Sat, 01 Feb 2025) EndedAt: 2025-02-01 00:00:38 -0500 (Sat, 01 Feb 2025) EllapsedTime: 34.7 seconds RetCode: 0 Status: OK CheckDir: MatrixGenerics.Rcheck Warnings: 0