Package: MatrixGenerics Version: 1.18.1 Command: /Library/Frameworks/R.framework/Resources/bin/R CMD INSTALL MatrixGenerics StartedAt: 2025-02-03 15:16:30 -0500 (Mon, 03 Feb 2025) EndedAt: 2025-02-03 15:16:36 -0500 (Mon, 03 Feb 2025) EllapsedTime: 5.7 seconds RetCode: 0 Status: OK