Package: MatrixGenerics Version: 1.18.0 Command: /home/biocbuild/R/R/bin/R CMD check --install=check:MatrixGenerics.install-out.txt --library=/home/biocbuild/R/R/site-library --no-vignettes --timings MatrixGenerics_1.18.0.tar.gz StartedAt: 2024-11-20 09:29:20 -0000 (Wed, 20 Nov 2024) EndedAt: 2024-11-20 09:29:55 -0000 (Wed, 20 Nov 2024) EllapsedTime: 35.1 seconds RetCode: 0 Status: OK CheckDir: MatrixGenerics.Rcheck Warnings: 0