Package: MatrixGenerics Version: 1.18.1 Command: /Library/Frameworks/R.framework/Resources/bin/R CMD build --keep-empty-dirs --no-resave-data MatrixGenerics StartedAt: 2025-01-30 20:21:48 -0500 (Thu, 30 Jan 2025) EndedAt: 2025-01-30 20:21:50 -0500 (Thu, 30 Jan 2025) EllapsedTime: 2.2 seconds RetCode: 0 Status: OK PackageFile: MatrixGenerics_1.18.1.tar.gz PackageFileSize: 31.27 KiB