Package: MatrixGenerics Version: 1.18.1 Command: /Library/Frameworks/R.framework/Resources/bin/R CMD check --install=check:MatrixGenerics.install-out.txt --library=/Library/Frameworks/R.framework/Resources/library --no-vignettes --timings MatrixGenerics_1.18.1.tar.gz StartedAt: 2025-01-31 05:59:14 -0500 (Fri, 31 Jan 2025) EndedAt: 2025-01-31 06:00:16 -0500 (Fri, 31 Jan 2025) EllapsedTime: 61.6 seconds RetCode: 0 Status: OK CheckDir: MatrixGenerics.Rcheck Warnings: 0