Package: MatrixGenerics Version: 1.18.1 Command: /home/biocbuild/bbs-3.20-bioc/R/bin/R CMD check --install=check:MatrixGenerics.install-out.txt --library=/home/biocbuild/bbs-3.20-bioc/R/site-library --timings MatrixGenerics_1.18.1.tar.gz StartedAt: 2025-01-30 23:37:46 -0500 (Thu, 30 Jan 2025) EndedAt: 2025-01-30 23:38:11 -0500 (Thu, 30 Jan 2025) EllapsedTime: 25.1 seconds RetCode: 0 Status: OK CheckDir: MatrixGenerics.Rcheck Warnings: 0