Package: MatrixGenerics Version: 1.18.1 Command: rm -rf MatrixGenerics.buildbin-libdir && mkdir MatrixGenerics.buildbin-libdir && F:\biocbuild\bbs-3.20-bioc\R\bin\R.exe CMD INSTALL --build --library=MatrixGenerics.buildbin-libdir MatrixGenerics_1.18.1.tar.gz StartedAt: 2025-02-04 08:51:12 -0500 (Tue, 04 Feb 2025) EndedAt: 2025-02-04 08:54:19 -0500 (Tue, 04 Feb 2025) EllapsedTime: 186.9 seconds RetCode: 0 Status: OK PackageFile: MatrixGenerics_1.18.1.zip PackageFileSize: 450.1 KiB