Package: MatrixGenerics Version: 1.18.1 Command: /home/biocbuild/R/R/bin/R CMD build --keep-empty-dirs --no-resave-data MatrixGenerics StartedAt: 2025-02-04 00:40:47 -0000 (Tue, 04 Feb 2025) EndedAt: 2025-02-04 00:40:48 -0000 (Tue, 04 Feb 2025) EllapsedTime: 1.0 seconds RetCode: 0 Status: OK PackageFile: MatrixGenerics_1.18.1.tar.gz PackageFileSize: 31.27 KiB