Package: MatrixGenerics Version: 1.18.1 Command: /home/biocbuild/R/R/bin/R CMD INSTALL MatrixGenerics StartedAt: 2025-01-30 20:08:57 -0000 (Thu, 30 Jan 2025) EndedAt: 2025-01-30 20:09:07 -0000 (Thu, 30 Jan 2025) EllapsedTime: 10.3 seconds RetCode: 0 Status: OK