Package: MatrixGenerics Version: 1.18.0 Command: /home/biocbuild/bbs-3.20-bioc/R/bin/R CMD build --keep-empty-dirs --no-resave-data MatrixGenerics StartedAt: 2024-11-19 19:51:43 -0500 (Tue, 19 Nov 2024) EndedAt: 2024-11-19 19:51:44 -0500 (Tue, 19 Nov 2024) EllapsedTime: 1.0 seconds RetCode: 0 Status: OK PackageFile: MatrixGenerics_1.18.0.tar.gz PackageFileSize: 31.02 KiB