Package: Mergeomics Version: 1.34.0 Command: /Library/Frameworks/R.framework/Resources/bin/R CMD check --install=check:Mergeomics.install-out.txt --library=/Library/Frameworks/R.framework/Resources/library --no-vignettes --timings Mergeomics_1.34.0.tar.gz StartedAt: 2024-11-19 23:47:01 -0500 (Tue, 19 Nov 2024) EndedAt: 2024-11-19 23:56:06 -0500 (Tue, 19 Nov 2024) EllapsedTime: 545.1 seconds RetCode: 0 Status: OK CheckDir: Mergeomics.Rcheck Warnings: 0